BEGIN:VCALENDAR
VERSION:2.0
PRODID:-//Център за високопроизводителни пресмятания - ECPv4.6//NONSGML v1.0//EN
CALSCALE:GREGORIAN
METHOD:PUBLISH
X-WR-CALNAME:Център за високопроизводителни пресмятания
X-ORIGINAL-URL:http://www.hpc.acad.bg/bg
X-WR-CALDESC:Events for Център за високопроизводителни пресмятания
BEGIN:VEVENT
DTSTART;VALUE=DATE:20180528
DTEND;VALUE=DATE:20180531
DTSTAMP:20260423T154039
CREATED:20171106T124545Z
LAST-MODIFIED:20180420T105921Z
UID:1135-1527465600-1527811199@www.hpc.acad.bg
SUMMARY:International Conference on "Numerical Methods for Scientific Computations and Advanced Applications" May 28 - May 31\, 2018\, Hissarya
DESCRIPTION:Organized by IICT-BAS  in cooperation with SIAM and technically co-sponsored by IEEE PS Computer Society Chapter (IEEE). \nMore information here. \n
URL:http://www.hpc.acad.bg/bg/event/international-conference-on-numerical-methods-for-scientific-computations-and-advanced-applications-may-28-may-31-2018-hissarya/
END:VEVENT
END:VCALENDAR