BEGIN:VCALENDAR
VERSION:2.0
PRODID:-//Център за високопроизводителни пресмятания - ECPv4.6//NONSGML v1.0//EN
CALSCALE:GREGORIAN
METHOD:PUBLISH
X-WR-CALNAME:Център за високопроизводителни пресмятания
X-ORIGINAL-URL:http://www.hpc.acad.bg/bg
X-WR-CALDESC:Events for Център за високопроизводителни пресмятания
BEGIN:VEVENT
DTSTART;VALUE=DATE:20180322
DTEND;VALUE=DATE:20180323
DTSTAMP:20260423T120736
CREATED:20180227T145409Z
LAST-MODIFIED:20180326T134317Z
UID:1214-1521676800-1521849599@www.hpc.acad.bg
SUMMARY:Научноизследователските инфраструктури след 2020 г. - устойчива и ефективна екосистема за наука и общество\, 22-23 март 2018\, София
DESCRIPTION:Конференцията &#8222;Научноизследователските инфраструктури след 2020 г. &#8211; устойчива и ефективна екосистема за наука и общество&#8220; ще се проведе на 22-23 март 2018\, в София Тех Парк \nЗа повече информация натиснете тук \n
URL:http://www.hpc.acad.bg/bg/event/research-infrastructures-beyond-2020-sustainable-and-effective-ecosystem-for-science-and-society-22-23-march-2018-sofia/
END:VEVENT
END:VCALENDAR