BEGIN:VCALENDAR
VERSION:2.0
PRODID:-//High performance computing Centre - ECPv4.6//NONSGML v1.0//EN
CALSCALE:GREGORIAN
METHOD:PUBLISH
X-WR-CALNAME:High performance computing Centre
X-ORIGINAL-URL:http://www.hpc.acad.bg
X-WR-CALDESC:Events for High performance computing Centre
BEGIN:VEVENT
DTSTART;VALUE=DATE:20191121
DTEND;VALUE=DATE:20191122
DTSTAMP:20260423T121210
CREATED:20191022T151423Z
LAST-MODIFIED:20191022T151559Z
UID:1844-1574294400-1574467199@www.hpc.acad.bg
SUMMARY:21-22 November 2019 6th IEEE International Conference on Big Data\, Knowledge and Control Systems Engineering (BdKCSE’2019)\, Sofia\, Bulgaria
DESCRIPTION:The 6th IEEE International Conference “Big Data\, Knowledge and Control Systems Engineering” (BdKCSE’2019) aims to provide an open forum for the dissemination of the current research progress\, innovative approaches and original research results on all aspects of Big Data Management\, Technologies\, and Applications. Organizer of the BdKCSE’2019 Conference is the John Atanasoff Union of Automatics and Informatics\, with co-organizers the Institute of Information and Communication Technologies of the Bulgarian Academy of Sciences and the IEEE IM/CS/SMC Joint Chapter of Bulgaria.\nThe conference will focus on: \n\nBig data infrastructure\nBig data management\nInformatics and operations research\nIntelligent control systems\nModels and computational theories of human cognition\n\nThere are many other topics too.More information about the event can be found on the conference website here. \n
URL:http://www.hpc.acad.bg/event/21-22-november-2019-6th-ieee-international-conference-on-big-data-knowledge-and-control-systems-engineering-bdkcse2019-sofia-bulgaria/
CATEGORIES:News
END:VEVENT
END:VCALENDAR