BEGIN:VCALENDAR
VERSION:2.0
PRODID:-//High performance computing Centre - ECPv4.6//NONSGML v1.0//EN
CALSCALE:GREGORIAN
METHOD:PUBLISH
X-WR-CALNAME:High performance computing Centre
X-ORIGINAL-URL:http://www.hpc.acad.bg
X-WR-CALDESC:Events for High performance computing Centre
BEGIN:VEVENT
DTSTART;VALUE=DATE:20180514
DTEND;VALUE=DATE:20180515
DTSTAMP:20260421T093518
CREATED:20180227T142612Z
LAST-MODIFIED:20180521T122843Z
UID:1211-1526256000-1526428799@www.hpc.acad.bg
SUMMARY:e-IRG workshop\, 14-15 May 2018\, Sofia
DESCRIPTION:The 2018 first Open e-IRG Workshop under Bulgarian EU Presidency was held in Sofia\, Bulgaria\, on 14-15 May 2018 in the Grand Hotel Sofia\, focusing on EuroHPC and the development of e-Infrastructures in South-Eastern European (SEE) and Eastern-Mediterranean (EM) region. \nFor more information click here \n\n\n    \n    \n        \n            \n                \n                \n                \n                \n                \n                \n                \n                \n                \n                \n                \n                \n                \n                \n                \n                \n                \n                \n                \n                \n                \n                \n                \n                \n                \n                \n                \n                \n                \n                \n                \n                \n                \n                \n            \n        \n        \n    \n    \n        var metaslider_1296 = function($) {\n            $('#metaslider_1296').addClass('flexslider'); // theme/plugin conflict avoidance\n            $('#metaslider_1296').flexslider({ \n                slideshowSpeed:3000\,\n                animation:"fade"\,\n                controlNav:true\,\n                directionNav:true\,\n                pauseOnHover:true\,\n                direction:"horizontal"\,\n                reverse:false\,\n                animationSpeed:600\,\n                prevText:"<"\,\n                nextText:">"\,\n                slideshow:true\,\n                namespace:"flex-vantage-"\n            });\n        };\n        var timer_metaslider_1296 = function() {\n            var slider = !window.jQuery ? window.setTimeout(timer_metaslider_1296\, 100) : !jQuery.isReady ? window.setTimeout(timer_metaslider_1296\, 1) : metaslider_1296(window.jQuery);\n        };\n        timer_metaslider_1296();\n    \n\n\n
URL:http://www.hpc.acad.bg/event/e-irg-workshop-14-15-may-2018-sofia/
END:VEVENT
END:VCALENDAR